BEGIN:VCALENDAR
VERSION:2.0
PRODID:-//ikimports - ECPv6.3.1//NONSGML v1.0//EN
CALSCALE:GREGORIAN
METHOD:PUBLISH
X-ORIGINAL-URL:https://www.ikimports.com
X-WR-CALDESC:Events for ikimports
REFRESH-INTERVAL;VALUE=DURATION:PT1H
X-Robots-Tag:noindex
X-PUBLISHED-TTL:PT1H
BEGIN:VTIMEZONE
TZID:UTC
BEGIN:STANDARD
TZOFFSETFROM:+0000
TZOFFSETTO:+0000
TZNAME:UTC
DTSTART:20240101T000000
END:STANDARD
END:VTIMEZONE
BEGIN:VEVENT
DTSTART;TZID=UTC:20250908T080000
DTEND;TZID=UTC:20250911T180000
DTSTAMP:20260423T155219
CREATED:20240128T080930Z
LAST-MODIFIED:20250822T100802Z
UID:5861-1757318400-1757613600@www.ikimports.com
SUMMARY:Vancouver Gift Show
DESCRIPTION:I & K IMPORTS   1-877-454-6767\, BOOTH#351 PNE FORUM\, VANCOUVER B.C
URL:https://www.ikimports.com/show/afe-truro/
LOCATION:VANCOUVER B.C\, BOOTH#351 PNE FORUM\, Canada
CATEGORIES:Shows
END:VEVENT
BEGIN:VEVENT
DTSTART;TZID=UTC:20250907T080000
DTEND;TZID=UTC:20250909T180000
DTSTAMP:20260423T155219
CREATED:20240128T080349Z
LAST-MODIFIED:20250822T100347Z
UID:5853-1757232000-1757440800@www.ikimports.com
SUMMARY:Thredz Show Toronto
DESCRIPTION:INDER PAL SINGH 1-877-454-6767   Booth#821 Toronto Congress Centre
URL:https://www.ikimports.com/show/threadz-show/
LOCATION:TORONTO CONGRES CENTRE\, TORONTO CONGRES CENTRE\, TORONTO\, 1-866-744-2581\, Canada
CATEGORIES:Shows
END:VEVENT
BEGIN:VEVENT
DTSTART;TZID=UTC:20250904T080000
DTEND;TZID=UTC:20250906T180000
DTSTAMP:20260423T155219
CREATED:20240811T155532Z
LAST-MODIFIED:20250822T095809Z
UID:6122-1756972800-1757181600@www.ikimports.com
SUMMARY:AFE\, MONCTON
DESCRIPTION:EMILY MARYNOWSKI (Jeune Jeunesse\, Mamma Mia)  902-497-9447\, ROOM 118 Days Inn\, Moncton
URL:https://www.ikimports.com/show/afe-moncton/
LOCATION:Days Inn\, Days Inn\, Moncton\, Canada
END:VEVENT
BEGIN:VEVENT
DTSTART;TZID=UTC:20250828T080000
DTEND;TZID=UTC:20250830T180000
DTSTAMP:20260423T155219
CREATED:20240811T154918Z
LAST-MODIFIED:20250822T094944Z
UID:6115-1756368000-1756576800@www.ikimports.com
SUMMARY:AFE\, HALIFAX
DESCRIPTION:EMILY MARYNOWSKI (Jeune Jeunesse\, Mamma Mia)   902-497-9447 \,   Ballroom B-1\,   Best Western – Glengarry Trade @ Convention Center Truro\, Nova Scotia
URL:https://www.ikimports.com/show/afe-halifax/
LOCATION:Best western Glengarry Hotel\, Best western Glengarry Hotel\, Glengarry\, Canada
END:VEVENT
BEGIN:VEVENT
DTSTART;TZID=UTC:20250826T080000
DTEND;TZID=UTC:20250828T180000
DTSTAMP:20260423T155219
CREATED:20240128T080816Z
LAST-MODIFIED:20250822T095425Z
UID:5859-1756195200-1756404000@www.ikimports.com
SUMMARY:Quebec City Clothing Show
DESCRIPTION:GENEVIEVE DE BILLY    1-866-744-2581\, ROOM NO.  323-324\,  Quality suite\, QC CITY
URL:https://www.ikimports.com/show/quebec-city-clothing-show/
LOCATION:Quality suite\, QC CITY\, Quality suite\, QC CITY\, Canada
CATEGORIES:Shows
END:VEVENT
BEGIN:VEVENT
DTSTART;TZID=UTC:20250824T080000
DTEND;TZID=UTC:20250826T180000
DTSTAMP:20260423T155219
CREATED:20240128T080535Z
LAST-MODIFIED:20250822T094726Z
UID:5855-1756022400-1756231200@www.ikimports.com
SUMMARY:Trends Edmonton
DESCRIPTION:I & K AGENCIES   1-877-454-6767\,   Booth 823\, Expo Centre\, Edmonton
URL:https://www.ikimports.com/show/trends-edmonton/
LOCATION:Expo Centre\, Booth 737\, Expo Centre\, Edmonton\, Canada
CATEGORIES:Shows
END:VEVENT
BEGIN:VEVENT
DTSTART;TZID=UTC:20240909T080000
DTEND;TZID=UTC:20240913T180000
DTSTAMP:20260423T155219
CREATED:20240128T081038Z
LAST-MODIFIED:20240811T155925Z
UID:5863-1725868800-1726250400@www.ikimports.com
SUMMARY:Metro Show Vancouver
DESCRIPTION:I & K AGENCIES  1-877-454-6767\, FX BUILDING\, VANCOUVER
URL:https://www.ikimports.com/show/metro-show-vancouver/
LOCATION:FX BUILDING\, VANCOUVER\, FX BUILDING\, VANCOUVER\, Canada
CATEGORIES:Shows
END:VEVENT
BEGIN:VEVENT
DTSTART;TZID=UTC:20240904T080000
DTEND;TZID=UTC:20240906T180000
DTSTAMP:20260423T155219
CREATED:20240128T080712Z
LAST-MODIFIED:20240811T155413Z
UID:5857-1725436800-1725645600@www.ikimports.com
SUMMARY:AFE\, MOCTON
DESCRIPTION:EMILE CORMIER (J.J. Footwear)  506-878-3843\, SALON 1  ROOM\,  Days Inn\, Moncton
URL:https://www.ikimports.com/show/afe-mocton/
LOCATION:Days Inn\, Days Inn\, Moncton\, Canada
CATEGORIES:Shows
END:VEVENT
BEGIN:VEVENT
DTSTART;TZID=UTC:20240820T080000
DTEND;TZID=UTC:20240822T180000
DTSTAMP:20260423T155219
CREATED:20240128T080158Z
LAST-MODIFIED:20240811T154027Z
UID:5851-1724140800-1724349600@www.ikimports.com
SUMMARY:Trends Saskatoon
DESCRIPTION:INDERPAL SINGH\, BOOTH 356\, World Trade Center Saskatoon
URL:https://www.ikimports.com/show/trends-saskatoon/
LOCATION:World Trade Center Saskatoon\, World Trade Center\, Saskatoon
CATEGORIES:Shows
END:VEVENT
BEGIN:VEVENT
DTSTART;TZID=UTC:20240818T080000
DTEND;TZID=UTC:20240820T180000
DTSTAMP:20260423T155219
CREATED:20240811T153203Z
LAST-MODIFIED:20240811T153203Z
UID:6098-1723968000-1724176800@www.ikimports.com
SUMMARY:AFA (TORONTO SHOE) SHOW
DESCRIPTION:I & K IMPORTS\n1-877-454-6767\nBooth#207
URL:https://www.ikimports.com/show/afa-toronto-shoe-show/
LOCATION:TORONTO CONGRES CENTRE\, TORONTO CONGRES CENTRE\, TORONTO\, 1-866-744-2581\, Canada
END:VEVENT
BEGIN:VEVENT
DTSTART;TZID=UTC:20240818T080000
DTEND;TZID=UTC:20240820T180000
DTSTAMP:20260423T155219
CREATED:20240128T075504Z
LAST-MODIFIED:20240811T153615Z
UID:5849-1723968000-1724176800@www.ikimports.com
SUMMARY:VOCA SHOW\, DRUMHELLER
DESCRIPTION:GENEVIEVE DE BILLY\n1-866-744-2581\n 
URL:https://www.ikimports.com/show/voca-show-drumheller/
LOCATION:TORONTO CONGRES CENTRE\, TORONTO CONGRES CENTRE\, TORONTO\, 1-866-744-2581\, Canada
CATEGORIES:Shows
END:VEVENT
BEGIN:VEVENT
DTSTART;TZID=UTC:20240811T080000
DTEND;TZID=UTC:20240813T180000
DTSTAMP:20260423T155219
CREATED:20240127T104633Z
LAST-MODIFIED:20240811T151817Z
UID:5823-1723363200-1723572000@www.ikimports.com
SUMMARY:Mode Accessories Toronto
DESCRIPTION:I& K IMPORTS INC\n1-877-454-6767\nBooth No. 2416\, Hall 2
URL:https://www.ikimports.com/show/mode-accessories-toronto/
LOCATION:International Centre Toronto\, International Centre Toronto\, Toronto\, Toronto\, Canada
CATEGORIES:Shows
END:VEVENT
BEGIN:VEVENT
DTSTART;TZID=UTC:20240130T080000
DTEND;TZID=UTC:20240131T170000
DTSTAMP:20260423T155220
CREATED:20240127T110601Z
LAST-MODIFIED:20240216T075132Z
UID:5827-1706601600-1706720400@www.ikimports.com
SUMMARY:Atlantic Footwear Show Moncton
DESCRIPTION:
URL:https://www.ikimports.com/show/atlantic-footwear-show-moncton/
LOCATION:Days Inn\, Days Inn\, Moncton\, Canada
CATEGORIES:Shows
END:VEVENT
END:VCALENDAR